BEGIN:VCALENDAR
VERSION:2.0
PRODID:-//wp-events-plugin.com//7.2.3.1//EN
BEGIN:VEVENT
UID:65@theharleystreetjournal.co.uk
DTSTART;VALUE=DATE:20250913
DTEND;VALUE=DATE:20250914
DTSTAMP:20250321T111710Z
URL:https://theharleystreetjournal.co.uk/events/world-sepsis-day-2025/
SUMMARY:World Sepsis Day 2025
DESCRIPTION:\nJoin over 7\,000 facilities and organizations worldwide by ho
 sting your own event. Not sure how to get started or how to expand on your
  prior events? Check out these simple\, fun\, and effective ideas in the l
 ink here\nThe easiest way to show your support for World Sepsis Day is to 
 sign the World Sepsis Declaration - think of it as a petition against seps
 is. So far\, more than 14\,500 entities (hospitals\, healthcare workers\, 
 non-profit organizations\, corporations\, and individuals) have signed the
  declaration.
END:VEVENT
END:VCALENDAR