BEGIN:VCALENDAR
VERSION:2.0
PRODID:-//wp-events-plugin.com//7.2.3.1//EN
BEGIN:VEVENT
UID:66@theharleystreetjournal.co.uk
DTSTART;VALUE=DATE:20250925
DTEND;VALUE=DATE:20250926
DTSTAMP:20250321T141155Z
URL:https://theharleystreetjournal.co.uk/events/world-pharmacists-day-2025
 /
SUMMARY:World Pharmacists Day 2025
DESCRIPTION:World Pharmacists Day (25 September) marks the anniversary of t
 he inception of FIP in 1912 and was adopted by the FIP Council in 2009. As
  such\, the World Pharmacists Day campaign is led by FIP every year\, with
  the theme chosen by the FIP Bureau.\n\n\n\nWorld Pharmacists Day and Worl
 d Pharmacy week provide opportunities for the pharmacy profession celebrat
 e and make known the contributions it makes to better health around the wo
 rld. It is also an opportunity to highlight our further potential in impro
 ving global health to decision-makers and the public.\n\nTo learn more\, p
 lease click here!
END:VEVENT
END:VCALENDAR