BEGIN:VCALENDAR
VERSION:2.0
PRODID:-//wp-events-plugin.com//7.2.3.1//EN
BEGIN:VEVENT
UID:6@theharleystreetjournal.co.uk
DTSTART;VALUE=DATE:20240429
DTEND;VALUE=DATE:20240501
DTSTAMP:20240418T121619Z
URL:https://theharleystreetjournal.co.uk/events/scottish-aesthetic-medicin
 e-exhibition/
SUMMARY:SCOTTISH AESTHETIC MEDICINE EXHIBITION
DESCRIPTION:Uncover the latest products\, Interact with your industry peers
 \, Celebrate the best in the business.\n\nThe Scottish Aesthetic Medicine 
 Exhibition is your chance to get a first-hand look at the world of aesthet
 ics\, here in Scotland. Here you will have the opportunity to learn from i
 ndustry leading experts\, network with other aesthetic practitioners\, and
  explore the latest treatments\, products\, and technologies. With an emph
 asis on innovation\, the event will be a great opportunity to discover new
  ideas\, and gain the knowledge you need to expand your business.\nRegiste
 r Here
ATTACH;FMTTYPE=image/jpeg:https://theharleystreetjournal.co.uk/wp-content/
 uploads/2024/04/Screenshot-2024-04-18-at-13.13.34.png
LOCATION:Braehead Arena\, Kings Inch Rd\, \, Glasgow \, G51 4BN\, United Ki
 ngdom
X-APPLE-STRUCTURED-LOCATION;VALUE=URI;X-ADDRESS=Kings Inch Rd\, \, Glasgow 
 \, G51 4BN\, United Kingdom;X-APPLE-RADIUS=100;X-TITLE=Braehead Arena:geo:
 0,0
END:VEVENT
END:VCALENDAR