BEGIN:VCALENDAR
VERSION:2.0
PRODID:-//wp-events-plugin.com//7.2.3.1//EN
BEGIN:VEVENT
UID:52@theharleystreetjournal.co.uk
DTSTART;VALUE=DATE:20250317
DTEND;VALUE=DATE:20250324
DTSTAMP:20250312T142651Z
URL:https://theharleystreetjournal.co.uk/events/nutrition-and-hydration-we
 ek-2025/
SUMMARY:Nutrition and Hydration Week 2025
DESCRIPTION:\n\n\nEvery March Since 2012\nNutrition and Hydration Week has 
 taken place every March since 2012. Its purpose is to bring people togethe
 r to create energy\, focus and fun in order to highlight and educate peopl
 e on the value of food and drink in maintaining health and well being in h
 ealth and social care.\n\n\n\n\nOrganisations from around the world and fr
 om all areas of health and social care take part and new organisations are
  welcome to join in the fun.\n\nWho can get involved?\nNutrition and Hydra
 tion Week is open to absolutely anyone who wants to join our shared cause 
 of helping people understand the importance of nutrition and hydration in 
 health and social care. It’s fun and its free to join and all the resou
 rces on this website are available to downloaded for free and be customis
 ed as you wish.\n\n\nWhere do I start?\nGetting involved is easy and its r
 eally up to you to decide what you would like to do for your organisation.
  To help\, here's a Nutrition and Hydration Week handbook which gives you 
 loads of ideas and practical tips and advice on how to make your week a hu
 ge success!\nTo learn more\, click here!\n\n\n
END:VEVENT
END:VCALENDAR