BEGIN:VCALENDAR
VERSION:2.0
PRODID:-//wp-events-plugin.com//7.2.3.1//EN
BEGIN:VEVENT
UID:1@theharleystreetjournal.co.uk
DTSTART;VALUE=DATE:20240202
DTEND;VALUE=DATE:20240204
DTSTAMP:20240126T124948Z
URL:https://theharleystreetjournal.co.uk/events/imcas-world-congress-2024/
SUMMARY:IMCAS World Congress 2024
DESCRIPTION:\n\n\nCELEBRATING GLOBAL INNOVATION\n\nIMCAS WORLD CONGRESS 202
 4 WILL GATHER IN PARIS FOR OUR 25TH ANNIVERSARY OF THE LARGEST SCIENTIFIC 
 AESTHETICS CONGRESS WORLDWIDE.\nThis hallmark edition embodies the future 
 of modern treatment with a global look at the techniques\, topics\, and me
 thods in dermatology\, plastic surgery\, and aesthetic science treatments.
  Network with the world’s leading figures and experts and take in an imm
 ersive scientific program with innovation at its core.\n\n\n\n\nRegister H
 ere
LOCATION:2 Pl de la Prte Maillot\, 2 Pl de la Prte Maillot\, \, Paris\, Fra
 nce\, 75017 \, France
X-APPLE-STRUCTURED-LOCATION;VALUE=URI;X-ADDRESS=2 Pl de la Prte Maillot\, \
 , Paris\, France\, 75017 \, France;X-APPLE-RADIUS=100;X-TITLE=2 Pl de la P
 rte Maillot:geo:0,0
END:VEVENT
END:VCALENDAR