BEGIN:VCALENDAR
VERSION:2.0
PRODID:-//wp-events-plugin.com//7.2.3.1//EN
BEGIN:VEVENT
UID:25@theharleystreetjournal.co.uk
DTSTART;VALUE=DATE:20241004
DTEND;VALUE=DATE:20241006
DTSTAMP:20240910T132627Z
URL:https://theharleystreetjournal.co.uk/events/complications-in-medical-a
 esthetic-collaborative-cmac/
SUMMARY:Complications in Medical Aesthetic Collaborative (CMAC)
DESCRIPTION:\nCMAC24 Conference - 4th &amp\; 5th October 2024\nOur next con
 ference will be on the 4th and 5th of October 2024.  For more information
  click here.\nRegister Here
END:VEVENT
END:VCALENDAR