BEGIN:VCALENDAR
VERSION:2.0
PRODID:-//wp-events-plugin.com//7.2.3.1//EN
BEGIN:VEVENT
UID:21@theharleystreetjournal.co.uk
DTSTART:20240926T080000Z
DTEND:20240927T190000Z
DTSTAMP:20240910T093120Z
URL:https://theharleystreetjournal.co.uk/events/bacn-autumn-aesthetic-conf
 erence-2024/
SUMMARY:BACN Autumn Aesthetic Conference 2024
DESCRIPTION:\n\nThe largest event dedicated directly to aesthetic nurses in
  the UK is back for 2024!\nThe BACN Autumn Aesthetic Conference returns fo
 r another exciting year...\nIn September 2024\, the BACN will be showcasin
 g the absolute best in aesthetic nursing and providing expert lectures 
 and demonstrations\, as well as offering fantastic networking opportuniti
 es with medical professionals who are all members of the largest professi
 onal association for aesthetic nurses in the UK.\n\nWe have also expanded 
 our exhibition space to include more hand-selected exhibitors\, with a ran
 ge of fantastic companies\, products\, and services to help your business.
 \n\nThe BACN is expecting our largest numbers yet for our 2024 event\, an
 d we are so excited to return to our 2023 location\, The Eastside Rooms\,
  in the heart of Birmingham.\n\nAll delegates receive refreshments\, a war
 m lunch\, goodie bags\, and opportunity to attend the infamous BACN evenin
 g drinks reception all included as part of your ticket!\n\n\n\n\n\nDate\n2
 6th September\n\n27th September\n\n\n\nTime\n8:00am to 7:00pm\n\n8:00am to
  5:00pm\n\n\n\nEastside Rooms\nWoodcock Street\, Birmingham\, B7 4BL\n\n\n
 \n
END:VEVENT
END:VCALENDAR