BEGIN:VCALENDAR
VERSION:2.0
PRODID:-//wp-events-plugin.com//7.2.3.1//EN
BEGIN:VEVENT
UID:20@theharleystreetjournal.co.uk
DTSTART;VALUE=DATE:20240929
DTEND;VALUE=DATE:20241001
DTSTAMP:20240910T092833Z
URL:https://theharleystreetjournal.co.uk/events/aesthetic-medicine-north-m
 anchester/
SUMMARY:Aesthetic Medicine North - Manchester
DESCRIPTION:\nAesthetic Medicine North\nAesthetic Medicine North is coming 
 to Manchester Central on 29-30 September 2024.\nThe North’s leading even
 t for aesthetic professionals\nAesthetic Medicine North is the perfect pla
 ce for you to unlock new opportunities for your aesthetics business as you
  gear up for 2025. Discover the latest trends as you test and compare some
  of the most cutting-edge treatments available\, in person\, before you i
 nvest. At the same time\, gain valuable education\, and connect with your 
 aesthetics community.\nRegister Now
END:VEVENT
END:VCALENDAR