BEGIN:VCALENDAR
VERSION:2.0
PRODID:-//wp-events-plugin.com//7.2.3.1//EN
BEGIN:VEVENT
UID:5@theharleystreetjournal.co.uk
DTSTART;VALUE=DATE:20240510
DTEND;VALUE=DATE:20240512
DTSTAMP:20240418T084859Z
URL:https://theharleystreetjournal.co.uk/events/aesthetic-medicine-live/
SUMMARY:Aesthetic Medicine Live
DESCRIPTION:The latest trends\, cutting edge treatments and key professiona
 l seminars and workshops await you at Aesthetic Medicine London ’24\nAes
 thetic Medicine London is the place to be to unlock new opportunities for 
 your aesthetics business. Discover the latest trends as you test and compa
 re some of the most cutting edge treatments available in person before yo
 u invest. At the same time\, gain valuable education and connect with you
 r aesthetics community.\nREGISTER HERE
ATTACH;FMTTYPE=image/jpeg:https://theharleystreetjournal.co.uk/wp-content/
 uploads/2024/04/Screenshot-2024-04-18-at-09.38.02.png
LOCATION:Olympia London\, Hammersmith Rd\, \, London \, W14 8UX\, United Ki
 ngdom
X-APPLE-STRUCTURED-LOCATION;VALUE=URI;X-ADDRESS=Hammersmith Rd\, \, London 
 \, W14 8UX\, United Kingdom;X-APPLE-RADIUS=100;X-TITLE=Olympia London:geo:
 0,0
END:VEVENT
END:VCALENDAR