BEGIN:VCALENDAR
VERSION:2.0
PRODID:-//wp-events-plugin.com//7.2.3.1//EN
BEGIN:VEVENT
UID:2@theharleystreetjournal.co.uk
DTSTART;VALUE=DATE:20240315
DTEND;VALUE=DATE:20240317
DTSTAMP:20240126T130131Z
URL:https://theharleystreetjournal.co.uk/events/ace-conference-2024/
SUMMARY:ACE Conference 2024
DESCRIPTION:\nAce Conference 2024 | Discover\, network &amp\; celebrate med
 ical aesthetics​\nThe ACE conference is the UK’s leading event for non
 -surgical aesthetic professionals\, home to world-class educational progra
 mmes\, unmissable networking opportunities and the industry’s most respe
 cted manufacturers\, suppliers and brands. As the only UK show to bring to
 gether all the top pharmaceutical\, services and solutions\, device and sk
 incare companies\, it’s your go-to event for all things injectable\, as 
 well as trends\, advice and updates that will help drive the success of yo
 ur practice and betterment of the aesthetic specialty.\nFriday 15 March 20
 24\n09:00 – 17:30\nSaturday 16 March 2024\n09:00 – 16:00\n\n\nRegister
  Here
LOCATION:Business Design Centre\,  52 Upper St\, The Angel\, \, London\,  N
 1 0QH\, United Kingdom
X-APPLE-STRUCTURED-LOCATION;VALUE=URI;X-ADDRESS= 52 Upper St\, The Angel\, 
 \, London\,  N1 0QH\, United Kingdom;X-APPLE-RADIUS=100;X-TITLE=Business D
 esign Centre:geo:0,0
END:VEVENT
END:VCALENDAR